BEGIN:VCALENDAR
VERSION:2.0
PRODID:-//Red Rock Township - ECPv6.15.12.2//NONSGML v1.0//EN
CALSCALE:GREGORIAN
METHOD:PUBLISH
X-ORIGINAL-URL:http://redrocktownship.com
X-WR-CALDESC:Events for Red Rock Township
REFRESH-INTERVAL;VALUE=DURATION:PT1H
X-Robots-Tag:noindex
X-PUBLISHED-TTL:PT1H
BEGIN:VTIMEZONE
TZID:America/Thunder_Bay
BEGIN:DAYLIGHT
TZOFFSETFROM:-0500
TZOFFSETTO:-0400
TZNAME:EDT
DTSTART:20290311T070000
END:DAYLIGHT
BEGIN:STANDARD
TZOFFSETFROM:-0400
TZOFFSETTO:-0500
TZNAME:EST
DTSTART:20291104T060000
END:STANDARD
BEGIN:DAYLIGHT
TZOFFSETFROM:-0500
TZOFFSETTO:-0400
TZNAME:EDT
DTSTART:20300310T070000
END:DAYLIGHT
BEGIN:STANDARD
TZOFFSETFROM:-0400
TZOFFSETTO:-0500
TZNAME:EST
DTSTART:20301103T060000
END:STANDARD
BEGIN:DAYLIGHT
TZOFFSETFROM:-0500
TZOFFSETTO:-0400
TZNAME:EDT
DTSTART:20310309T070000
END:DAYLIGHT
BEGIN:STANDARD
TZOFFSETFROM:-0400
TZOFFSETTO:-0500
TZNAME:EST
DTSTART:20311102T060000
END:STANDARD
END:VTIMEZONE
BEGIN:VEVENT
DTSTART;TZID=America/Thunder_Bay:20300624T190000
DTEND;TZID=America/Thunder_Bay:20300624T200000
DTSTAMP:20260421T125158
CREATED:20251204T143347Z
LAST-MODIFIED:20251204T143347Z
UID:10000997-1908558000-1908561600@redrocktownship.com
SUMMARY:Bingo
DESCRIPTION:
URL:http://redrocktownship.com/event/bingo/2030-06-24/
LOCATION:Red Rock Legion\, 41 Salls Street
END:VEVENT
BEGIN:VEVENT
DTSTART;TZID=America/Thunder_Bay:20300628T160000
DTEND;TZID=America/Thunder_Bay:20300628T180000
DTSTAMP:20260421T125158
CREATED:20251204T143305Z
LAST-MODIFIED:20251204T143305Z
UID:10000737-1908892800-1908900000@redrocktownship.com
SUMMARY:Meat Draw
DESCRIPTION:Weekly Meat Draw & 50/50 Draw
URL:http://redrocktownship.com/event/meat-draw/2030-06-28/
LOCATION:Red Rock Legion\, 41 Salls Street
END:VEVENT
BEGIN:VEVENT
DTSTART;TZID=America/Thunder_Bay:20300701T190000
DTEND;TZID=America/Thunder_Bay:20300701T200000
DTSTAMP:20260421T125158
CREATED:20251204T143347Z
LAST-MODIFIED:20251204T143347Z
UID:10000998-1909162800-1909166400@redrocktownship.com
SUMMARY:Bingo
DESCRIPTION:
URL:http://redrocktownship.com/event/bingo/2030-07-01/
LOCATION:Red Rock Legion\, 41 Salls Street
END:VEVENT
BEGIN:VEVENT
DTSTART;TZID=America/Thunder_Bay:20300705T160000
DTEND;TZID=America/Thunder_Bay:20300705T180000
DTSTAMP:20260421T125158
CREATED:20251204T143305Z
LAST-MODIFIED:20251204T143305Z
UID:10000738-1909497600-1909504800@redrocktownship.com
SUMMARY:Meat Draw
DESCRIPTION:Weekly Meat Draw & 50/50 Draw
URL:http://redrocktownship.com/event/meat-draw/2030-07-05/
LOCATION:Red Rock Legion\, 41 Salls Street
END:VEVENT
BEGIN:VEVENT
DTSTART;TZID=America/Thunder_Bay:20300708T190000
DTEND;TZID=America/Thunder_Bay:20300708T200000
DTSTAMP:20260421T125158
CREATED:20251204T143347Z
LAST-MODIFIED:20251204T143347Z
UID:10000999-1909767600-1909771200@redrocktownship.com
SUMMARY:Bingo
DESCRIPTION:
URL:http://redrocktownship.com/event/bingo/2030-07-08/
LOCATION:Red Rock Legion\, 41 Salls Street
END:VEVENT
BEGIN:VEVENT
DTSTART;TZID=America/Thunder_Bay:20300712T160000
DTEND;TZID=America/Thunder_Bay:20300712T180000
DTSTAMP:20260421T125158
CREATED:20251204T143305Z
LAST-MODIFIED:20251204T143305Z
UID:10000739-1910102400-1910109600@redrocktownship.com
SUMMARY:Meat Draw
DESCRIPTION:Weekly Meat Draw & 50/50 Draw
URL:http://redrocktownship.com/event/meat-draw/2030-07-12/
LOCATION:Red Rock Legion\, 41 Salls Street
END:VEVENT
BEGIN:VEVENT
DTSTART;TZID=America/Thunder_Bay:20300715T190000
DTEND;TZID=America/Thunder_Bay:20300715T200000
DTSTAMP:20260421T125158
CREATED:20251204T143347Z
LAST-MODIFIED:20251204T143347Z
UID:10001000-1910372400-1910376000@redrocktownship.com
SUMMARY:Bingo
DESCRIPTION:
URL:http://redrocktownship.com/event/bingo/2030-07-15/
LOCATION:Red Rock Legion\, 41 Salls Street
END:VEVENT
BEGIN:VEVENT
DTSTART;TZID=America/Thunder_Bay:20300719T160000
DTEND;TZID=America/Thunder_Bay:20300719T180000
DTSTAMP:20260421T125158
CREATED:20251204T143305Z
LAST-MODIFIED:20251204T143305Z
UID:10000740-1910707200-1910714400@redrocktownship.com
SUMMARY:Meat Draw
DESCRIPTION:Weekly Meat Draw & 50/50 Draw
URL:http://redrocktownship.com/event/meat-draw/2030-07-19/
LOCATION:Red Rock Legion\, 41 Salls Street
END:VEVENT
BEGIN:VEVENT
DTSTART;TZID=America/Thunder_Bay:20300722T190000
DTEND;TZID=America/Thunder_Bay:20300722T200000
DTSTAMP:20260421T125158
CREATED:20251204T143347Z
LAST-MODIFIED:20251204T143347Z
UID:10001001-1910977200-1910980800@redrocktownship.com
SUMMARY:Bingo
DESCRIPTION:
URL:http://redrocktownship.com/event/bingo/2030-07-22/
LOCATION:Red Rock Legion\, 41 Salls Street
END:VEVENT
BEGIN:VEVENT
DTSTART;TZID=America/Thunder_Bay:20300726T160000
DTEND;TZID=America/Thunder_Bay:20300726T180000
DTSTAMP:20260421T125158
CREATED:20251204T143305Z
LAST-MODIFIED:20251204T143305Z
UID:10000741-1911312000-1911319200@redrocktownship.com
SUMMARY:Meat Draw
DESCRIPTION:Weekly Meat Draw & 50/50 Draw
URL:http://redrocktownship.com/event/meat-draw/2030-07-26/
LOCATION:Red Rock Legion\, 41 Salls Street
END:VEVENT
BEGIN:VEVENT
DTSTART;TZID=America/Thunder_Bay:20300729T190000
DTEND;TZID=America/Thunder_Bay:20300729T200000
DTSTAMP:20260421T125158
CREATED:20251204T143347Z
LAST-MODIFIED:20251204T143347Z
UID:10001002-1911582000-1911585600@redrocktownship.com
SUMMARY:Bingo
DESCRIPTION:
URL:http://redrocktownship.com/event/bingo/2030-07-29/
LOCATION:Red Rock Legion\, 41 Salls Street
END:VEVENT
BEGIN:VEVENT
DTSTART;TZID=America/Thunder_Bay:20300802T160000
DTEND;TZID=America/Thunder_Bay:20300802T180000
DTSTAMP:20260421T125158
CREATED:20251204T143305Z
LAST-MODIFIED:20251204T143305Z
UID:10000742-1911916800-1911924000@redrocktownship.com
SUMMARY:Meat Draw
DESCRIPTION:Weekly Meat Draw & 50/50 Draw
URL:http://redrocktownship.com/event/meat-draw/2030-08-02/
LOCATION:Red Rock Legion\, 41 Salls Street
END:VEVENT
BEGIN:VEVENT
DTSTART;TZID=America/Thunder_Bay:20300805T190000
DTEND;TZID=America/Thunder_Bay:20300805T200000
DTSTAMP:20260421T125158
CREATED:20251204T143347Z
LAST-MODIFIED:20251204T143347Z
UID:10001003-1912186800-1912190400@redrocktownship.com
SUMMARY:Bingo
DESCRIPTION:
URL:http://redrocktownship.com/event/bingo/2030-08-05/
LOCATION:Red Rock Legion\, 41 Salls Street
END:VEVENT
BEGIN:VEVENT
DTSTART;TZID=America/Thunder_Bay:20300809T160000
DTEND;TZID=America/Thunder_Bay:20300809T180000
DTSTAMP:20260421T125158
CREATED:20251204T143305Z
LAST-MODIFIED:20251204T143305Z
UID:10000743-1912521600-1912528800@redrocktownship.com
SUMMARY:Meat Draw
DESCRIPTION:Weekly Meat Draw & 50/50 Draw
URL:http://redrocktownship.com/event/meat-draw/2030-08-09/
LOCATION:Red Rock Legion\, 41 Salls Street
END:VEVENT
BEGIN:VEVENT
DTSTART;TZID=America/Thunder_Bay:20300812T190000
DTEND;TZID=America/Thunder_Bay:20300812T200000
DTSTAMP:20260421T125158
CREATED:20251204T143347Z
LAST-MODIFIED:20251204T143347Z
UID:10001004-1912791600-1912795200@redrocktownship.com
SUMMARY:Bingo
DESCRIPTION:
URL:http://redrocktownship.com/event/bingo/2030-08-12/
LOCATION:Red Rock Legion\, 41 Salls Street
END:VEVENT
BEGIN:VEVENT
DTSTART;TZID=America/Thunder_Bay:20300816T160000
DTEND;TZID=America/Thunder_Bay:20300816T180000
DTSTAMP:20260421T125158
CREATED:20251204T143305Z
LAST-MODIFIED:20251204T143305Z
UID:10000744-1913126400-1913133600@redrocktownship.com
SUMMARY:Meat Draw
DESCRIPTION:Weekly Meat Draw & 50/50 Draw
URL:http://redrocktownship.com/event/meat-draw/2030-08-16/
LOCATION:Red Rock Legion\, 41 Salls Street
END:VEVENT
BEGIN:VEVENT
DTSTART;TZID=America/Thunder_Bay:20300819T190000
DTEND;TZID=America/Thunder_Bay:20300819T200000
DTSTAMP:20260421T125158
CREATED:20251204T143347Z
LAST-MODIFIED:20251204T143347Z
UID:10001005-1913396400-1913400000@redrocktownship.com
SUMMARY:Bingo
DESCRIPTION:
URL:http://redrocktownship.com/event/bingo/2030-08-19/
LOCATION:Red Rock Legion\, 41 Salls Street
END:VEVENT
BEGIN:VEVENT
DTSTART;TZID=America/Thunder_Bay:20300823T160000
DTEND;TZID=America/Thunder_Bay:20300823T180000
DTSTAMP:20260421T125158
CREATED:20251204T143305Z
LAST-MODIFIED:20251204T143305Z
UID:10000745-1913731200-1913738400@redrocktownship.com
SUMMARY:Meat Draw
DESCRIPTION:Weekly Meat Draw & 50/50 Draw
URL:http://redrocktownship.com/event/meat-draw/2030-08-23/
LOCATION:Red Rock Legion\, 41 Salls Street
END:VEVENT
BEGIN:VEVENT
DTSTART;TZID=America/Thunder_Bay:20300826T190000
DTEND;TZID=America/Thunder_Bay:20300826T200000
DTSTAMP:20260421T125158
CREATED:20251204T143347Z
LAST-MODIFIED:20251204T143347Z
UID:10001006-1914001200-1914004800@redrocktownship.com
SUMMARY:Bingo
DESCRIPTION:
URL:http://redrocktownship.com/event/bingo/2030-08-26/
LOCATION:Red Rock Legion\, 41 Salls Street
END:VEVENT
BEGIN:VEVENT
DTSTART;TZID=America/Thunder_Bay:20300830T160000
DTEND;TZID=America/Thunder_Bay:20300830T180000
DTSTAMP:20260421T125158
CREATED:20251204T143305Z
LAST-MODIFIED:20251204T143305Z
UID:10000746-1914336000-1914343200@redrocktownship.com
SUMMARY:Meat Draw
DESCRIPTION:Weekly Meat Draw & 50/50 Draw
URL:http://redrocktownship.com/event/meat-draw/2030-08-30/
LOCATION:Red Rock Legion\, 41 Salls Street
END:VEVENT
BEGIN:VEVENT
DTSTART;TZID=America/Thunder_Bay:20300902T190000
DTEND;TZID=America/Thunder_Bay:20300902T200000
DTSTAMP:20260421T125158
CREATED:20251204T143347Z
LAST-MODIFIED:20251204T143347Z
UID:10001007-1914606000-1914609600@redrocktownship.com
SUMMARY:Bingo
DESCRIPTION:
URL:http://redrocktownship.com/event/bingo/2030-09-02/
LOCATION:Red Rock Legion\, 41 Salls Street
END:VEVENT
BEGIN:VEVENT
DTSTART;TZID=America/Thunder_Bay:20300906T160000
DTEND;TZID=America/Thunder_Bay:20300906T180000
DTSTAMP:20260421T125158
CREATED:20251204T143305Z
LAST-MODIFIED:20251204T143305Z
UID:10000747-1914940800-1914948000@redrocktownship.com
SUMMARY:Meat Draw
DESCRIPTION:Weekly Meat Draw & 50/50 Draw
URL:http://redrocktownship.com/event/meat-draw/2030-09-06/
LOCATION:Red Rock Legion\, 41 Salls Street
END:VEVENT
BEGIN:VEVENT
DTSTART;TZID=America/Thunder_Bay:20300909T190000
DTEND;TZID=America/Thunder_Bay:20300909T200000
DTSTAMP:20260421T125158
CREATED:20251204T143347Z
LAST-MODIFIED:20251204T143347Z
UID:10001008-1915210800-1915214400@redrocktownship.com
SUMMARY:Bingo
DESCRIPTION:
URL:http://redrocktownship.com/event/bingo/2030-09-09/
LOCATION:Red Rock Legion\, 41 Salls Street
END:VEVENT
BEGIN:VEVENT
DTSTART;TZID=America/Thunder_Bay:20300913T160000
DTEND;TZID=America/Thunder_Bay:20300913T180000
DTSTAMP:20260421T125158
CREATED:20251204T143305Z
LAST-MODIFIED:20251204T143305Z
UID:10000748-1915545600-1915552800@redrocktownship.com
SUMMARY:Meat Draw
DESCRIPTION:Weekly Meat Draw & 50/50 Draw
URL:http://redrocktownship.com/event/meat-draw/2030-09-13/
LOCATION:Red Rock Legion\, 41 Salls Street
END:VEVENT
BEGIN:VEVENT
DTSTART;TZID=America/Thunder_Bay:20300916T190000
DTEND;TZID=America/Thunder_Bay:20300916T200000
DTSTAMP:20260421T125158
CREATED:20251204T143347Z
LAST-MODIFIED:20251204T143347Z
UID:10001009-1915815600-1915819200@redrocktownship.com
SUMMARY:Bingo
DESCRIPTION:
URL:http://redrocktownship.com/event/bingo/2030-09-16/
LOCATION:Red Rock Legion\, 41 Salls Street
END:VEVENT
BEGIN:VEVENT
DTSTART;TZID=America/Thunder_Bay:20300920T160000
DTEND;TZID=America/Thunder_Bay:20300920T180000
DTSTAMP:20260421T125158
CREATED:20251204T143305Z
LAST-MODIFIED:20251204T143305Z
UID:10000749-1916150400-1916157600@redrocktownship.com
SUMMARY:Meat Draw
DESCRIPTION:Weekly Meat Draw & 50/50 Draw
URL:http://redrocktownship.com/event/meat-draw/2030-09-20/
LOCATION:Red Rock Legion\, 41 Salls Street
END:VEVENT
BEGIN:VEVENT
DTSTART;TZID=America/Thunder_Bay:20300923T190000
DTEND;TZID=America/Thunder_Bay:20300923T200000
DTSTAMP:20260421T125158
CREATED:20251204T143347Z
LAST-MODIFIED:20251204T143347Z
UID:10001010-1916420400-1916424000@redrocktownship.com
SUMMARY:Bingo
DESCRIPTION:
URL:http://redrocktownship.com/event/bingo/2030-09-23/
LOCATION:Red Rock Legion\, 41 Salls Street
END:VEVENT
BEGIN:VEVENT
DTSTART;TZID=America/Thunder_Bay:20300927T160000
DTEND;TZID=America/Thunder_Bay:20300927T180000
DTSTAMP:20260421T125158
CREATED:20251204T143305Z
LAST-MODIFIED:20251204T143305Z
UID:10000750-1916755200-1916762400@redrocktownship.com
SUMMARY:Meat Draw
DESCRIPTION:Weekly Meat Draw & 50/50 Draw
URL:http://redrocktownship.com/event/meat-draw/2030-09-27/
LOCATION:Red Rock Legion\, 41 Salls Street
END:VEVENT
BEGIN:VEVENT
DTSTART;TZID=America/Thunder_Bay:20300930T190000
DTEND;TZID=America/Thunder_Bay:20300930T200000
DTSTAMP:20260421T125158
CREATED:20251204T143347Z
LAST-MODIFIED:20251204T143347Z
UID:10001011-1917025200-1917028800@redrocktownship.com
SUMMARY:Bingo
DESCRIPTION:
URL:http://redrocktownship.com/event/bingo/2030-09-30/
LOCATION:Red Rock Legion\, 41 Salls Street
END:VEVENT
BEGIN:VEVENT
DTSTART;TZID=America/Thunder_Bay:20301004T160000
DTEND;TZID=America/Thunder_Bay:20301004T180000
DTSTAMP:20260421T125158
CREATED:20251204T143305Z
LAST-MODIFIED:20251204T143305Z
UID:10000751-1917360000-1917367200@redrocktownship.com
SUMMARY:Meat Draw
DESCRIPTION:Weekly Meat Draw & 50/50 Draw
URL:http://redrocktownship.com/event/meat-draw/2030-10-04/
LOCATION:Red Rock Legion\, 41 Salls Street
END:VEVENT
END:VCALENDAR