BEGIN:VCALENDAR
VERSION:2.0
PRODID:-//Red Rock Township - ECPv6.15.12.2//NONSGML v1.0//EN
CALSCALE:GREGORIAN
METHOD:PUBLISH
X-WR-CALNAME:Red Rock Township
X-ORIGINAL-URL:http://redrocktownship.com
X-WR-CALDESC:Events for Red Rock Township
REFRESH-INTERVAL;VALUE=DURATION:PT1H
X-Robots-Tag:noindex
X-PUBLISHED-TTL:PT1H
BEGIN:VTIMEZONE
TZID:America/Thunder_Bay
BEGIN:DAYLIGHT
TZOFFSETFROM:-0500
TZOFFSETTO:-0400
TZNAME:EDT
DTSTART:20290311T070000
END:DAYLIGHT
BEGIN:STANDARD
TZOFFSETFROM:-0400
TZOFFSETTO:-0500
TZNAME:EST
DTSTART:20291104T060000
END:STANDARD
BEGIN:DAYLIGHT
TZOFFSETFROM:-0500
TZOFFSETTO:-0400
TZNAME:EDT
DTSTART:20300310T070000
END:DAYLIGHT
BEGIN:STANDARD
TZOFFSETFROM:-0400
TZOFFSETTO:-0500
TZNAME:EST
DTSTART:20301103T060000
END:STANDARD
BEGIN:DAYLIGHT
TZOFFSETFROM:-0500
TZOFFSETTO:-0400
TZNAME:EDT
DTSTART:20310309T070000
END:DAYLIGHT
BEGIN:STANDARD
TZOFFSETFROM:-0400
TZOFFSETTO:-0500
TZNAME:EST
DTSTART:20311102T060000
END:STANDARD
END:VTIMEZONE
BEGIN:VEVENT
DTSTART;TZID=America/Thunder_Bay:20300916T190000
DTEND;TZID=America/Thunder_Bay:20300916T200000
DTSTAMP:20260421T080713
CREATED:20251204T143347Z
LAST-MODIFIED:20251204T143347Z
UID:10001009-1915815600-1915819200@redrocktownship.com
SUMMARY:Bingo
DESCRIPTION:
URL:http://redrocktownship.com/event/bingo/2030-09-16/
LOCATION:Red Rock Legion\, 41 Salls Street
END:VEVENT
BEGIN:VEVENT
DTSTART;TZID=America/Thunder_Bay:20300920T160000
DTEND;TZID=America/Thunder_Bay:20300920T180000
DTSTAMP:20260421T080713
CREATED:20251204T143305Z
LAST-MODIFIED:20251204T143305Z
UID:10000749-1916150400-1916157600@redrocktownship.com
SUMMARY:Meat Draw
DESCRIPTION:Weekly Meat Draw & 50/50 Draw
URL:http://redrocktownship.com/event/meat-draw/2030-09-20/
LOCATION:Red Rock Legion\, 41 Salls Street
END:VEVENT
BEGIN:VEVENT
DTSTART;TZID=America/Thunder_Bay:20300923T190000
DTEND;TZID=America/Thunder_Bay:20300923T200000
DTSTAMP:20260421T080713
CREATED:20251204T143347Z
LAST-MODIFIED:20251204T143347Z
UID:10001010-1916420400-1916424000@redrocktownship.com
SUMMARY:Bingo
DESCRIPTION:
URL:http://redrocktownship.com/event/bingo/2030-09-23/
LOCATION:Red Rock Legion\, 41 Salls Street
END:VEVENT
BEGIN:VEVENT
DTSTART;TZID=America/Thunder_Bay:20300927T160000
DTEND;TZID=America/Thunder_Bay:20300927T180000
DTSTAMP:20260421T080713
CREATED:20251204T143305Z
LAST-MODIFIED:20251204T143305Z
UID:10000750-1916755200-1916762400@redrocktownship.com
SUMMARY:Meat Draw
DESCRIPTION:Weekly Meat Draw & 50/50 Draw
URL:http://redrocktownship.com/event/meat-draw/2030-09-27/
LOCATION:Red Rock Legion\, 41 Salls Street
END:VEVENT
BEGIN:VEVENT
DTSTART;TZID=America/Thunder_Bay:20300930T190000
DTEND;TZID=America/Thunder_Bay:20300930T200000
DTSTAMP:20260421T080713
CREATED:20251204T143347Z
LAST-MODIFIED:20251204T143347Z
UID:10001011-1917025200-1917028800@redrocktownship.com
SUMMARY:Bingo
DESCRIPTION:
URL:http://redrocktownship.com/event/bingo/2030-09-30/
LOCATION:Red Rock Legion\, 41 Salls Street
END:VEVENT
BEGIN:VEVENT
DTSTART;TZID=America/Thunder_Bay:20301004T160000
DTEND;TZID=America/Thunder_Bay:20301004T180000
DTSTAMP:20260421T080713
CREATED:20251204T143305Z
LAST-MODIFIED:20251204T143305Z
UID:10000751-1917360000-1917367200@redrocktownship.com
SUMMARY:Meat Draw
DESCRIPTION:Weekly Meat Draw & 50/50 Draw
URL:http://redrocktownship.com/event/meat-draw/2030-10-04/
LOCATION:Red Rock Legion\, 41 Salls Street
END:VEVENT
BEGIN:VEVENT
DTSTART;TZID=America/Thunder_Bay:20301007T190000
DTEND;TZID=America/Thunder_Bay:20301007T200000
DTSTAMP:20260421T080713
CREATED:20251204T143347Z
LAST-MODIFIED:20251204T143347Z
UID:10001012-1917630000-1917633600@redrocktownship.com
SUMMARY:Bingo
DESCRIPTION:
URL:http://redrocktownship.com/event/bingo/2030-10-07/
LOCATION:Red Rock Legion\, 41 Salls Street
END:VEVENT
BEGIN:VEVENT
DTSTART;TZID=America/Thunder_Bay:20301011T160000
DTEND;TZID=America/Thunder_Bay:20301011T180000
DTSTAMP:20260421T080713
CREATED:20251204T143305Z
LAST-MODIFIED:20251204T143305Z
UID:10000752-1917964800-1917972000@redrocktownship.com
SUMMARY:Meat Draw
DESCRIPTION:Weekly Meat Draw & 50/50 Draw
URL:http://redrocktownship.com/event/meat-draw/2030-10-11/
LOCATION:Red Rock Legion\, 41 Salls Street
END:VEVENT
BEGIN:VEVENT
DTSTART;TZID=America/Thunder_Bay:20301014T190000
DTEND;TZID=America/Thunder_Bay:20301014T200000
DTSTAMP:20260421T080713
CREATED:20251204T143347Z
LAST-MODIFIED:20251204T143347Z
UID:10001013-1918234800-1918238400@redrocktownship.com
SUMMARY:Bingo
DESCRIPTION:
URL:http://redrocktownship.com/event/bingo/2030-10-14/
LOCATION:Red Rock Legion\, 41 Salls Street
END:VEVENT
BEGIN:VEVENT
DTSTART;TZID=America/Thunder_Bay:20301018T160000
DTEND;TZID=America/Thunder_Bay:20301018T180000
DTSTAMP:20260421T080713
CREATED:20251204T143305Z
LAST-MODIFIED:20251204T143305Z
UID:10000753-1918569600-1918576800@redrocktownship.com
SUMMARY:Meat Draw
DESCRIPTION:Weekly Meat Draw & 50/50 Draw
URL:http://redrocktownship.com/event/meat-draw/2030-10-18/
LOCATION:Red Rock Legion\, 41 Salls Street
END:VEVENT
BEGIN:VEVENT
DTSTART;TZID=America/Thunder_Bay:20301021T190000
DTEND;TZID=America/Thunder_Bay:20301021T200000
DTSTAMP:20260421T080713
CREATED:20251204T143347Z
LAST-MODIFIED:20251204T143347Z
UID:10001014-1918839600-1918843200@redrocktownship.com
SUMMARY:Bingo
DESCRIPTION:
URL:http://redrocktownship.com/event/bingo/2030-10-21/
LOCATION:Red Rock Legion\, 41 Salls Street
END:VEVENT
BEGIN:VEVENT
DTSTART;TZID=America/Thunder_Bay:20301025T160000
DTEND;TZID=America/Thunder_Bay:20301025T180000
DTSTAMP:20260421T080713
CREATED:20251204T143305Z
LAST-MODIFIED:20251204T143305Z
UID:10000754-1919174400-1919181600@redrocktownship.com
SUMMARY:Meat Draw
DESCRIPTION:Weekly Meat Draw & 50/50 Draw
URL:http://redrocktownship.com/event/meat-draw/2030-10-25/
LOCATION:Red Rock Legion\, 41 Salls Street
END:VEVENT
BEGIN:VEVENT
DTSTART;TZID=America/Thunder_Bay:20301028T190000
DTEND;TZID=America/Thunder_Bay:20301028T200000
DTSTAMP:20260421T080713
CREATED:20251204T143347Z
LAST-MODIFIED:20251204T143347Z
UID:10001015-1919444400-1919448000@redrocktownship.com
SUMMARY:Bingo
DESCRIPTION:
URL:http://redrocktownship.com/event/bingo/2030-10-28/
LOCATION:Red Rock Legion\, 41 Salls Street
END:VEVENT
BEGIN:VEVENT
DTSTART;TZID=America/Thunder_Bay:20301101T160000
DTEND;TZID=America/Thunder_Bay:20301101T180000
DTSTAMP:20260421T080713
CREATED:20251204T143305Z
LAST-MODIFIED:20251204T143305Z
UID:10000755-1919779200-1919786400@redrocktownship.com
SUMMARY:Meat Draw
DESCRIPTION:Weekly Meat Draw & 50/50 Draw
URL:http://redrocktownship.com/event/meat-draw/2030-11-01/
LOCATION:Red Rock Legion\, 41 Salls Street
END:VEVENT
BEGIN:VEVENT
DTSTART;TZID=America/Thunder_Bay:20301104T190000
DTEND;TZID=America/Thunder_Bay:20301104T200000
DTSTAMP:20260421T080713
CREATED:20251204T143347Z
LAST-MODIFIED:20251204T143347Z
UID:10001016-1920049200-1920052800@redrocktownship.com
SUMMARY:Bingo
DESCRIPTION:
URL:http://redrocktownship.com/event/bingo/2030-11-04/
LOCATION:Red Rock Legion\, 41 Salls Street
END:VEVENT
BEGIN:VEVENT
DTSTART;TZID=America/Thunder_Bay:20301108T160000
DTEND;TZID=America/Thunder_Bay:20301108T180000
DTSTAMP:20260421T080713
CREATED:20251204T143305Z
LAST-MODIFIED:20251204T143305Z
UID:10000756-1920384000-1920391200@redrocktownship.com
SUMMARY:Meat Draw
DESCRIPTION:Weekly Meat Draw & 50/50 Draw
URL:http://redrocktownship.com/event/meat-draw/2030-11-08/
LOCATION:Red Rock Legion\, 41 Salls Street
END:VEVENT
BEGIN:VEVENT
DTSTART;TZID=America/Thunder_Bay:20301111T190000
DTEND;TZID=America/Thunder_Bay:20301111T200000
DTSTAMP:20260421T080713
CREATED:20251204T143347Z
LAST-MODIFIED:20251204T143347Z
UID:10001017-1920654000-1920657600@redrocktownship.com
SUMMARY:Bingo
DESCRIPTION:
URL:http://redrocktownship.com/event/bingo/2030-11-11/
LOCATION:Red Rock Legion\, 41 Salls Street
END:VEVENT
BEGIN:VEVENT
DTSTART;TZID=America/Thunder_Bay:20301115T160000
DTEND;TZID=America/Thunder_Bay:20301115T180000
DTSTAMP:20260421T080713
CREATED:20251204T143305Z
LAST-MODIFIED:20251204T143305Z
UID:10000757-1920988800-1920996000@redrocktownship.com
SUMMARY:Meat Draw
DESCRIPTION:Weekly Meat Draw & 50/50 Draw
URL:http://redrocktownship.com/event/meat-draw/2030-11-15/
LOCATION:Red Rock Legion\, 41 Salls Street
END:VEVENT
BEGIN:VEVENT
DTSTART;TZID=America/Thunder_Bay:20301118T190000
DTEND;TZID=America/Thunder_Bay:20301118T200000
DTSTAMP:20260421T080713
CREATED:20251204T143347Z
LAST-MODIFIED:20251204T143347Z
UID:10001018-1921258800-1921262400@redrocktownship.com
SUMMARY:Bingo
DESCRIPTION:
URL:http://redrocktownship.com/event/bingo/2030-11-18/
LOCATION:Red Rock Legion\, 41 Salls Street
END:VEVENT
BEGIN:VEVENT
DTSTART;TZID=America/Thunder_Bay:20301122T160000
DTEND;TZID=America/Thunder_Bay:20301122T180000
DTSTAMP:20260421T080713
CREATED:20251204T143305Z
LAST-MODIFIED:20251204T143305Z
UID:10000758-1921593600-1921600800@redrocktownship.com
SUMMARY:Meat Draw
DESCRIPTION:Weekly Meat Draw & 50/50 Draw
URL:http://redrocktownship.com/event/meat-draw/2030-11-22/
LOCATION:Red Rock Legion\, 41 Salls Street
END:VEVENT
BEGIN:VEVENT
DTSTART;TZID=America/Thunder_Bay:20301125T190000
DTEND;TZID=America/Thunder_Bay:20301125T200000
DTSTAMP:20260421T080713
CREATED:20251204T143347Z
LAST-MODIFIED:20251204T143347Z
UID:10001019-1921863600-1921867200@redrocktownship.com
SUMMARY:Bingo
DESCRIPTION:
URL:http://redrocktownship.com/event/bingo/2030-11-25/
LOCATION:Red Rock Legion\, 41 Salls Street
END:VEVENT
BEGIN:VEVENT
DTSTART;TZID=America/Thunder_Bay:20301129T160000
DTEND;TZID=America/Thunder_Bay:20301129T180000
DTSTAMP:20260421T080713
CREATED:20251204T143305Z
LAST-MODIFIED:20251204T143305Z
UID:10000759-1922198400-1922205600@redrocktownship.com
SUMMARY:Meat Draw
DESCRIPTION:Weekly Meat Draw & 50/50 Draw
URL:http://redrocktownship.com/event/meat-draw/2030-11-29/
LOCATION:Red Rock Legion\, 41 Salls Street
END:VEVENT
BEGIN:VEVENT
DTSTART;TZID=America/Thunder_Bay:20301202T190000
DTEND;TZID=America/Thunder_Bay:20301202T200000
DTSTAMP:20260421T080713
CREATED:20251204T143347Z
LAST-MODIFIED:20251204T143347Z
UID:10001020-1922468400-1922472000@redrocktownship.com
SUMMARY:Bingo
DESCRIPTION:
URL:http://redrocktownship.com/event/bingo/2030-12-02/
LOCATION:Red Rock Legion\, 41 Salls Street
END:VEVENT
END:VCALENDAR